BEGIN:VCALENDAR
VERSION:2.0
PRODID:-//Singpatong Sitnumnoi - ECPv4.6.11.1//NONSGML v1.0//EN
CALSCALE:GREGORIAN
METHOD:PUBLISH
X-WR-CALNAME:Singpatong Sitnumnoi
X-ORIGINAL-URL:https://www.singpatong-sitnumnoi.com
X-WR-CALDESC:Events for Singpatong Sitnumnoi
BEGIN:VEVENT
DTSTART;TZID=UTC+0:20190205T183000
DTEND;TZID=UTC+0:20190205T233000
DTSTAMP:20260425T141141
CREATED:20190118T055436Z
LAST-MODIFIED:20190118T055436Z
UID:3885-1549391400-1549409400@www.singpatong-sitnumnoi.com
SUMMARY:SUK PETCH NUMNOI + STREET FIGHT FEBRUARY 05\, 2019
DESCRIPTION: \n
URL:https://www.singpatong-sitnumnoi.com/fight-event/suk-petch-numnoi-street-fight-february-05-2019/
LOCATION:No.6 Ramintra Rd. Anusawaree\, Bang Khen\, Bangkok.\, Bangkok\, Thailand
CATEGORIES:Lumpinee,Special Events
ORGANIZER;CN="Numnoi%20Singpatong":MAILTO:lumpineethaiboxing@gmail.com
END:VEVENT
END:VCALENDAR