BEGIN:VCALENDAR
VERSION:2.0
PRODID:-//Singpatong Sitnumnoi - ECPv4.6.11.1//NONSGML v1.0//EN
CALSCALE:GREGORIAN
METHOD:PUBLISH
X-WR-CALNAME:Singpatong Sitnumnoi
X-ORIGINAL-URL:https://www.singpatong-sitnumnoi.com
X-WR-CALDESC:Events for Singpatong Sitnumnoi
BEGIN:VEVENT
DTSTART;TZID=UTC+0:20190112T210000
DTEND;TZID=UTC+0:20190112T235500
DTSTAMP:20260425T202444
CREATED:20190107T061218Z
LAST-MODIFIED:20190107T061218Z
UID:3878-1547326800-1547337300@www.singpatong-sitnumnoi.com
SUMMARY:SINGPATONG FIGHT NIGHT JANUARY 12\, 2019
DESCRIPTION: \n
URL:https://www.singpatong-sitnumnoi.com/fight-event/singpatong-fight-night-january-12-2019/
LOCATION:2/59 Soi Kebsab\, Sainamyen Road\, Patong Beach\, Kathu\, Patong\, Phuket\, 83150\, Thailand
CATEGORIES:Suk Singpatong + Sitnumnoi
ORGANIZER;CN="Numnoi%20Singpatong":MAILTO:lumpineethaiboxing@gmail.com
END:VEVENT
END:VCALENDAR